BEGIN:VCALENDAR
VERSION:2.0
PRODID:-//Eventin//Event Calendar//EN
CALSCALE:GREGORIAN
METHOD:PUBLISH
BEGIN:VEVENT
UID:ddbd382fc877a50b59efcead843e750c@thewholeperson.org
SUMMARY:Mental Health Peer Support Group Meeting
DESCRIPTION:If you are a person with a mental health disability\, join your
  peers to share information and successful techniques addressing the needs 
 and challenges that you face.\nWe will meet from 5:30-7:30 pm\, virtually v
 ia Teams or in person at The Whole Person in the Community Room.\nTo get th
 e Teams link\, please contact Jamie before the meeting.
LOCATION:The Whole Person
DTSTAMP:20260423T163041Z
DTSTART:20260519T223000Z
DTEND:20260520T003000Z
END:VEVENT
END:VCALENDAR
