BEGIN:VCALENDAR
VERSION:2.0
PRODID:-//Eventin//Event Calendar//EN
CALSCALE:GREGORIAN
METHOD:PUBLISH
BEGIN:VEVENT
UID:92d1eac071d6727458d374634c9e2e1a@thewholeperson.org
SUMMARY:Getting Social
DESCRIPTION:The theme for August's Getting Social is "Hobbies".\nGetting So
 cial is a peer support group for people with disabilities\, their PCAs\, fa
 mily\, friends\, and other service providers. Join us on the first Friday o
 f each month\, or date specified\, from 1:00-3:00 p.m. virtually via Zoom\,
  or in the Community Room at the Missouri Office\; 3710 Main St.\, KCMO.\nF
 or more information\, to RSVP\, to request a Zoom link\, secure transportat
 ion\, and request accommodations\, please contact your Independent Living A
 dvocate\, the Youth & Adult Services Team\, 816-561-0304 or rstephens@thew
 holeperson.org.\nWe provide transportation within 5 miles of The Whole Pers
 on with advance notice.\nIf you can’t attend in-person\, join us on Zoom!
LOCATION:The Whole Person
DTSTAMP:20260423T192312Z
DTSTART:20260807T180000Z
DTEND:20260807T200000Z
END:VEVENT
END:VCALENDAR
