BEGIN:VCALENDAR
VERSION:2.0
PRODID:-//Eventin//Event Calendar//EN
CALSCALE:GREGORIAN
METHOD:PUBLISH
BEGIN:VEVENT
UID:6f07c1911523fbc62b7555f0f790a25f@thewholeperson.org
SUMMARY:Getting Social
DESCRIPTION:The theme for September's Getting Social is "Positive Ripple Ef
 fect".\nGetting Social is a peer support group for people with disabilities
 \, their PCAs\, family\, friends\, and other service providers. Join us on 
 the first Friday of each month\, or date specified\, from 1:00-3:00 p.m. vi
 rtually via Zoom\, or in the Community Room at the Missouri Office\; 3710 M
 ain St.\, KCMO.\nFor more information\, to RSVP\, to request a Zoom link\, 
 secure transportation\, and request accommodations\, please contact your In
 dependent Living Advocate\, the Youth & Adult Services Team\, 816-561-0304 
 or rstephens@thewholeperson.org.\nWe provide transportation within 5 miles
  of The Whole Person with advance notice.\nIf you can’t attend in-person\
 , join us on Zoom!
LOCATION:The Whole Person
DTSTAMP:20260423T192252Z
DTSTART:20260911T180000Z
DTEND:20260911T200000Z
END:VEVENT
END:VCALENDAR
