BEGIN:VCALENDAR
VERSION:2.0
PRODID:-//Eventin//Event Calendar//EN
CALSCALE:GREGORIAN
METHOD:PUBLISH
BEGIN:VEVENT
UID:b178ea88eb43af15ee87c2aec3588184@thewholeperson.org
SUMMARY:Getting Social
DESCRIPTION:For October's Getting Social\, we will be going on an outing! M
 ore details to come.\nGetting Social is a peer support group for people wit
 h disabilities\, their PCAs\, family\, friends\, and other service provider
 s. Join us on the first Friday of each month\, or date specified\, from 1:0
 0-3:00 p.m. virtually via Zoom\, or in the Community Room at the Missouri O
 ffice\; 3710 Main St.\, KCMO.\nFor more information\, to RSVP\, to request 
 a Zoom link\, secure transportation\, and request accommodations\, please c
 ontact your Independent Living Advocate\, the Youth & Adult Services Team\,
  816-561-0304 or rstephens@thewholeperson.org.\nWe provide transportation 
 within 5 miles of The Whole Person with advance notice.\nIf you can’t att
 end in-person\, join us on Zoom!
LOCATION:The Whole Person
DTSTAMP:20260423T192312Z
DTSTART:20261002T180000Z
DTEND:20261002T200000Z
END:VEVENT
END:VCALENDAR
