BEGIN:VCALENDAR
VERSION:2.0
PRODID:-//Eventin//Event Calendar//EN
CALSCALE:GREGORIAN
METHOD:PUBLISH
BEGIN:VEVENT
UID:9aab2bebc3af8d65de9faa40984ff6ca@thewholeperson.org
SUMMARY:Getting Social
DESCRIPTION:The theme for November's Getting Social is "Coziness and Warmth
 ".\nGetting Social is a peer support group for people with disabilities\, t
 heir PCAs\, family\, friends\, and other service providers. Join us on the 
 first Friday of each month\, or date specified\, from 1:00-3:00 p.m. virtua
 lly via Zoom\, or in the Community Room at the Missouri Office\; 3710 Main 
 St.\, KCMO.\nFor more information\, to RSVP\, to request a Zoom link\, secu
 re transportation\, and request accommodations\, please contact your Indepe
 ndent Living Advocate\, the Youth & Adult Services Team\, 816-561-0304 or 
 rstephens@thewholeperson.org.\nWe provide transportation within 5 miles of 
 The Whole Person with advance notice.\nIf you can’t attend in-person\, jo
 in us on Zoom!
LOCATION:The Whole Person
DTSTAMP:20260423T192252Z
DTSTART:20261106T190000Z
DTEND:20261106T210000Z
END:VEVENT
END:VCALENDAR
