BEGIN:VCALENDAR
VERSION:2.0
PRODID:-//Eventin//Event Calendar//EN
CALSCALE:GREGORIAN
METHOD:PUBLISH
BEGIN:VEVENT
UID:ae4490502d2e24817952d37cbdbfbc74@thewholeperson.org
SUMMARY:DIY LifeSkills – Young Adults 18-24
DESCRIPTION:Join The Whole Person for DIY Life Skills\, a peer group design
 ed for youth ages 18-24 who want to learn and strengthen their independent 
 living skills.\nHeld every 3rd Wednesday of the month from 2:00–3:00 PM\,
  this small-group setting is open to all consumers and covers essential top
 ics like relationships\, communication\, hygiene\, advocacy\, healthy eatin
 g\, employment\, and more!\nDecember's Theme: Holiday & Life Event Planning
 \n\nPlanning gatherings\nBudgeting for holidays\nTime-management for busy s
 easons\nCreating traditions and memory-keeping\n\nFor more information or t
 o RSVP\, please contact Michelle Mitchell at 816-627-2207 or mmitchell@thew
 holeperson.org.
LOCATION:The Whole Person
DTSTAMP:20260423T160424Z
DTSTART:20261216T200000Z
DTEND:20261216T210000Z
END:VEVENT
END:VCALENDAR
