BEGIN:VCALENDAR
VERSION:2.0
PRODID:-//Eventin//Event Calendar//EN
CALSCALE:GREGORIAN
METHOD:PUBLISH
BEGIN:VEVENT
UID:49f5ef2c314c85199c29d0ed342c8d19@thewholeperson.org
SUMMARY:Outdoor Sensations: Nature Discovery Program
DESCRIPTION:Experiencing Nature Through Your Senses.\nImmerse yourself in n
 ature like never before! This unique event\, hosted at the Anita B. Gorman 
 Conservation Discovery Center\, features a Nature Discovery program that en
 gages your senses of touch\, smell\, and sound. Join us for this sensory ex
 perience where we will walk and explore through a nature hike! \nDate: May
  1st Time: 10 am - 12 pmLocation: Anita B. Gorman Conservation Discovery C
 enterCapacity: Limited to 15 individuals\nTransportation: We will provide t
 ransportation from The Whole Person to and from the event. If you need tran
 sportation\, please inform Halley Korff\, and arrive at The Whole Person by
  9:30 am.\nLimited spots available. Please RSVP to confirm your attendance.
 \nIf you need accommodations\, transportation\, or have any questions\, pl
 ease reach out to Halley Korff at hkorff@thewholeperson.org or (816) 214-97
 35.
LOCATION:Anita B. Gorman Conservation Discovery Center: 4750 Troost Ave\, K
 ansas City\, MO 64110
DTSTAMP:20260423T143805Z
DTSTART:20260501T150000Z
DTEND:20260501T170000Z
END:VEVENT
END:VCALENDAR
