BEGIN:VCALENDAR
VERSION:2.0
PRODID:-//Eventin//Event Calendar//EN
CALSCALE:GREGORIAN
METHOD:PUBLISH
BEGIN:VEVENT
UID:8274699395cf833bbfb53c525caba0d9@thewholeperson.org
SUMMARY:Tactile Tour at the Nelson-Atkins Museum
DESCRIPTION:For individuals who are vision-impaired or blind\, here is your
  chance to experience art in a whole new way. Participants will enjoy a gui
 ded tactile tour\, where they will get the chance to feel and experience ar
 t. After the tactile museum tour\, there will be a hands-on opportunity to 
 create a clay sculpture that we will fire in the kiln and return a few week
 s following the workshop. \nDate: July 31st Time: 1 - 3 pmLocation: Nelso
 n-Atkins Museum of ArtCapacity: Limited to 14 individuals\nTransportation: 
 We will provide transportation from The Whole Person to and from the event.
  If you need transportation\, please inform Halley Korff\, and arrive at Th
 e Whole Person by 12:30 pm.\nLimited spots available. Please RSVP to confir
 m your attendance.\nIf you need accommodations\, transportation\, or have 
 any questions\, please reach out to Halley Korff at hkorff@thewholeperson.o
 rg or (816) 214-9735.
LOCATION:Nelson-Atkins Museum of Art: 4525 Oak St. Kansas City\, MO 64111 
DTSTAMP:20260423T143838Z
DTSTART:20260731T180000Z
DTEND:20260731T200000Z
END:VEVENT
END:VCALENDAR
