BEGIN:VCALENDAR
VERSION:2.0
PRODID:-//Eventin//Event Calendar//EN
CALSCALE:GREGORIAN
METHOD:PUBLISH
BEGIN:VEVENT
UID:02b324f3eb4caf0fc7a8baab072a5a42@thewholeperson.org
SUMMARY:Virtual Presentation with ibug
DESCRIPTION:Join us for an online presentation hosted by ibug on April 24th
  at 2pm. ibug is a nonprofit organization that promotes individual independ
 ence\, social integration\, and educational development of the blind and vi
 sually impaired community through accessible technology training. ibug blin
 d group endeavors to transform the blind community through accessible techn
 ology training so they can live extraordinary lives full of independence\, 
 productivity\, communication and social integration in a world where everyt
 hing is within the realm of possibility. \nThis presentation will be on Te
 ams.\nPlease reach out to Halley Korff at hkorff@thewholeperson.org for the
  Teams link.
LOCATION:Online
DTSTAMP:20260423T141909Z
DTSTART:20260424T190000Z
DTEND:20260424T200000Z
END:VEVENT
END:VCALENDAR
